2.43840000
0.00000000
0.00000000
-2.43840000
711460.22978975
4473264.90608271
