2.43840000
0.00000000
0.00000000
-2.43840000
677955.37505667
4541732.35233209
