2.438400
0.000000
0.000000
-2.438400
426227.525030
4650686.939657
