2.438400
0.000000
0.000000
-2.438400
258723.835746
4598848.901756
