2.438400
0.000000
0.000000
-2.438400
260107.313116
4654370.201532
