2.438400
0.000000
0.000000
-2.438400
677149.828851
4569479.383473
