2.43840000
0.00000000
0.00000000
-2.43840000
426755.85053169
4664582.18262491
