2.438400
0.000000
0.000000
-2.438400
302094.365157
4666965.521987
