2.438400
0.000000
0.000000
-2.438400
597057.094996
4262598.822523
