2.438400
0.000000
0.000000
-2.438400
499267.135221
4220226.080275
