2.438400
0.000000
0.000000
-2.438400
564123.656704
4289961.752009
