2.438400
0.000000
0.000000
-2.438400
531590.141398
4317445.081634
