2.438400
0.000000
0.000000
-2.438400
433428.626918
4234382.187087
