2.438400000000
0.000000000000
0.000000000000
-2.438400000000
648609.405020197154
4430013.769323753190
