2.438400000000
0.000000000000
0.000000000000
-2.438400000000
541916.263599544300
4428501.550877628800
