2.438400
0.000000
0.000000
-2.438400
466547.876083
4331255.964536
