2.438400000000
0.000000000000
0.000000000000
-2.438400000000
552393.687258302470
4456333.112290213800
