2.438400000000
0.000000000000
0.000000000000
-2.438400000000
562430.832294235010
4525808.682601223700
