2.438400000000
0.000000000000
0.000000000000
-2.438400000000
604157.561376516240
4554111.691025867100
