2.438400000000
0.000000000000
0.000000000000
-2.438400000000
624423.312434213820
4596105.697741524300
