2.438400000000
0.000000000000
0.000000000000
-2.438400000000
520220.815700690320
4553259.392929570749
