2.438400
0.000000
0.000000
-2.438400
488913.606338
4622559.157638
