2.438400000000
0.000000000000
0.000000000000
-2.438400000000
446575.769884027250
4622765.914813382600
