2.438400000000
0.000000000000
0.000000000000
-2.438400000000
697630.479755922100
4167598.682284398900
