2.438400000000
0.000000000000
0.000000000000
-2.438400000000
697297.673132438210
4181469.272110160900
