2.438400000000
0.000000000000
0.000000000000
-2.438400000000
729946.211171543570
4196248.522708657200
