2.438400000000
0.000000000000
0.000000000000
-2.438400000000
674975.577514335860
4194807.225545776100
