2.438400
0
0
-2.438400
740495.643871
4210448.592288
