2.438400000000
0.000000000000
0.000000000000
-2.438400000000
587620.092876971120
4137789.515470067500
