2.438400000000
0.000000000000
0.000000000000
-2.438400000000
554294.842750540935
4178909.033454640768
