2.438400000000
0.000000000000
0.000000000000
-2.438400000000
521223.372181746294
4192576.794406668283
