2.438400000000
0.000000000000
0.000000000000
-2.438400000000
454582.851704581117
4109576.736427922267
