2.438400000000
0.000000000000
0.000000000000
-2.438400000000
454730.766372753249
4137309.285208489280
