2.438400000000
0.000000000000
0.000000000000
-2.438400000000
388909.588609931120
4179380.406187975300
