2.438400000000
0.000000000000
0.000000000000
-2.438400000000
256086.069851657110
4168351.244416937700
