2.438400000000
0.000000000000
0.000000000000
-2.438400000000
245454.955470658260
4182555.234872536300
