2.438400
0.000000
0.000000
-2.438400
751979.490972
4196801.282880
