2.43840000
0.00000000
0.00000000
-2.43840000
258958.18403497
4265453.68916505
