2.438400000000
0.000000000000
0.000000000000
-2.438400000000
673026.293674763870
4291753.267519455400
