2.438400000000
0.000000000000
0.000000000000
-2.438400000000
630480.053668239970
4235377.170514772600
