2.438400000000
0.000000000000
0.000000000000
-2.438400000000
575397.654022452305
4276210.863550228990
