2.438400000000
0.000000000000
0.000000000000
-2.438400000000
510078.235765903722
4303497.655787326390
