2.438400000000
0.000000000000
0.000000000000
-2.438400000000
389991.809908637835
4262604.049486324191
