2.438400000000
0.000000000000
0.000000000000
-2.438400000000
357963.365717587003
4304735.859365302138
