2.438400000000
0.000000000000
0.000000000000
-2.438400000000
269089.263402793150
4237392.562113229200
