2.438400000000
0.000000000000
0.000000000000
-2.438400000000
595929.061180437570
4373606.452423770000
