2.438400000000
0.000000000000
0.000000000000
-2.438400000000
649129.478066663610
4402287.417913239400
