2.438400000000
0.000000000000
0.000000000000
-2.438400000000
520544.326398688601
4428412.255405996926
