2.438400000000
0.000000000000
0.000000000000
-2.438400000000
358985.337871748550
4360220.317221258800
