2.438400000000
0.000000000000
0.000000000000
-2.438400000000
359986.838000800640
4415713.852575420400
